Workbook

Sheet 事業所一覧
A2: 事業所一覧（別紙１） | F2: 法人名 | J2: 別表２
A4: № | B4: ①事業所名 | C4: ②事業所番号 | D4: ③区分 | E4: ④事業所種別 | G4: ⑤開設日 又は再開日 | H4: ⑥支援金額 | I4: ⑦控除額
E5: 入所系（Ⅰ）の場合、定員数
A7: =ROW()-6 -> 1 | F7: =IFERROR(VLOOKUP($D7,リスト!$B:$F,4,FALSE),"") | H7: =IF($D7="","",IF($K7=FALSE,"定員数を入力してください",IF(AND($D7<>"",$G7=""),"開設日又は再開日を入力してください",IFERROR(VLOOKUP($D7,リスト!$B:$K,VLOOKUP($G7,リスト!$O$1:$P$4,2,TRUE),FALSE)*IF(COUNTIF($D7,"Ⅰ*")=1,$E7,1),"交付対象となりません ")))) | I7: =IF(NOT(ISNUMBER($H7)),0,IF(COUNTIF($D7,"Ⅰ*")=1,-1600,0)) -> 0 | K7: =NOT(AND(COUNTIF($D7,"Ⅰ*")=1,$E7="")) -> TRUE
A8: =ROW()-6 -> 2 | F8: =IFERROR(VLOOKUP($D8,リスト!$B:$F,4,FALSE),"") | H8: =IF($D8="","",IF($K8=FALSE,"定員数を入力してください",IF(AND($D8<>"",$G8=""),"開設日又は再開日を入力してください",IFERROR(VLOOKUP($D8,リスト!$B:$K,VLOOKUP($G8,リスト!$O$1:$P$4,2,TRUE),FALSE)*IF(COUNTIF($D8,"Ⅰ*")=1,$E8,1),"交付対象となりません ")))) | I8: =IF(NOT(ISNUMBER($H8)),0,IF(COUNTIF($D8,"Ⅰ*")=1,-1600,0)) -> 0 | K8: =NOT(AND(COUNTIF($D8,"Ⅰ*")=1,$E8="")) -> TRUE
A9: =ROW()-6 -> 3 | F9: =IFERROR(VLOOKUP($D9,リスト!$B:$F,4,FALSE),"") | H9: =IF($D9="","",IF($K9=FALSE,"定員数を入力してください",IF(AND($D9<>"",$G9=""),"開設日又は再開日を入力してください",IFERROR(VLOOKUP($D9,リスト!$B:$K,VLOOKUP($G9,リスト!$O$1:$P$4,2,TRUE),FALSE)*IF(COUNTIF($D9,"Ⅰ*")=1,$E9,1),"交付対象となりません ")))) | I9: =IF(NOT(ISNUMBER($H9)),0,IF(COUNTIF($D9,"Ⅰ*")=1,-1600,0)) -> 0 | K9: =NOT(AND(COUNTIF($D9,"Ⅰ*")=1,$E9="")) -> TRUE
A10: =ROW()-6 -> 4 | F10: =IFERROR(VLOOKUP($D10,リスト!$B:$F,4,FALSE),"") | H10: =IF($D10="","",IF($K10=FALSE,"定員数を入力してください",IF(AND($D10<>"",$G10=""),"開設日又は再開日を入力してください",IFERROR(VLOOKUP($D10,リスト!$B:$K,VLOOKUP($G10,リスト!$O$1:$P$4,2,TRUE),FALSE)*IF(COUNTIF($D10,"Ⅰ*")=1,$E10,1),"交付対象となりません ")))) | I10: =IF(NOT(ISNUMBER($H10)),0,IF(COUNTIF($D10,"Ⅰ*")=1,-1600,0)) -> 0 | K10: =NOT(AND(COUNTIF($D10,"Ⅰ*")=1,$E10="")) -> TRUE
A11: =ROW()-6 -> 5 | F11: =IFERROR(VLOOKUP($D11,リスト!$B:$F,4,FALSE),"") | H11: =IF($D11="","",IF($K11=FALSE,"定員数を入力してください",IF(AND($D11<>"",$G11=""),"開設日又は再開日を入力してください",IFERROR(VLOOKUP($D11,リスト!$B:$K,VLOOKUP($G11,リスト!$O$1:$P$4,2,TRUE),FALSE)*IF(COUNTIF($D11,"Ⅰ*")=1,$E11,1),"交付対象となりません ")))) | I11: =IF(NOT(ISNUMBER($H11)),0,IF(COUNTIF($D11,"Ⅰ*")=1,-1600,0)) -> 0 | K11: =NOT(AND(COUNTIF($D11,"Ⅰ*")=1,$E11="")) -> TRUE
A12: =ROW()-6 -> 6 | F12: =IFERROR(VLOOKUP($D12,リスト!$B:$F,4,FALSE),"") | H12: =IF($D12="","",IF($K12=FALSE,"定員数を入力してください",IF(AND($D12<>"",$G12=""),"開設日又は再開日を入力してください",IFERROR(VLOOKUP($D12,リスト!$B:$K,VLOOKUP($G12,リスト!$O$1:$P$4,2,TRUE),FALSE)*IF(COUNTIF($D12,"Ⅰ*")=1,$E12,1),"交付対象となりません ")))) | I12: =IF(NOT(ISNUMBER($H12)),0,IF(COUNTIF($D12,"Ⅰ*")=1,-1600,0)) -> 0 | K12: =NOT(AND(COUNTIF($D12,"Ⅰ*")=1,$E12="")) -> TRUE
A13: =ROW()-6 -> 7 | F13: =IFERROR(VLOOKUP($D13,リスト!$B:$F,4,FALSE),"") | H13: =IF($D13="","",IF($K13=FALSE,"定員数を入力してください",IF(AND($D13<>"",$G13=""),"開設日又は再開日を入力してください",IFERROR(VLOOKUP($D13,リスト!$B:$K,VLOOKUP($G13,リスト!$O$1:$P$4,2,TRUE),FALSE)*IF(COUNTIF($D13,"Ⅰ*")=1,$E13,1),"交付対象となりません ")))) | I13: =IF(NOT(ISNUMBER($H13)),0,IF(COUNTIF($D13,"Ⅰ*")=1,-1600,0)) -> 0 | K13: =NOT(AND(COUNTIF($D13,"Ⅰ*")=1,$E13="")) -> TRUE
A14: =ROW()-6 -> 8 | F14: =IFERROR(VLOOKUP($D14,リスト!$B:$F,4,FALSE),"") | H14: =IF($D14="","",IF($K14=FALSE,"定員数を入力してください",IF(AND($D14<>"",$G14=""),"開設日又は再開日を入力してください",IFERROR(VLOOKUP($D14,リスト!$B:$K,VLOOKUP($G14,リスト!$O$1:$P$4,2,TRUE),FALSE)*IF(COUNTIF($D14,"Ⅰ*")=1,$E14,1),"交付対象となりません ")))) | I14: =IF(NOT(ISNUMBER($H14)),0,IF(COUNTIF($D14,"Ⅰ*")=1,-1600,0)) -> 0 | K14: =NOT(AND(COUNTIF($D14,"Ⅰ*")=1,$E14="")) -> TRUE
A15: =ROW()-6 -> 9 | F15: =IFERROR(VLOOKUP($D15,リスト!$B:$F,4,FALSE),"") | H15: =IF($D15="","",IF($K15=FALSE,"定員数を入力してください",IF(AND($D15<>"",$G15=""),"開設日又は再開日を入力してください",IFERROR(VLOOKUP($D15,リスト!$B:$K,VLOOKUP($G15,リスト!$O$1:$P$4,2,TRUE),FALSE)*IF(COUNTIF($D15,"Ⅰ*")=1,$E15,1),"交付対象となりません ")))) | I15: =IF(NOT(ISNUMBER($H15)),0,IF(COUNTIF($D15,"Ⅰ*")=1,-1600,0)) -> 0 | K15: =NOT(AND(COUNTIF($D15,"Ⅰ*")=1,$E15="")) -> TRUE
A16: =ROW()-6 -> 10 | F16: =IFERROR(VLOOKUP($D16,リスト!$B:$F,4,FALSE),"") | H16: =IF($D16="","",IF($K16=FALSE,"定員数を入力してください",IF(AND($D16<>"",$G16=""),"開設日又は再開日を入力してください",IFERROR(VLOOKUP($D16,リスト!$B:$K,VLOOKUP($G16,リスト!$O$1:$P$4,2,TRUE),FALSE)*IF(COUNTIF($D16,"Ⅰ*")=1,$E16,1),"交付対象となりません ")))) | I16: =IF(NOT(ISNUMBER($H16)),0,IF(COUNTIF($D16,"Ⅰ*")=1,-1600,0)) -> 0 | K16: =NOT(AND(COUNTIF($D16,"Ⅰ*")=1,$E16="")) -> TRUE
A17: =ROW()-6 -> 11 | F17: =IFERROR(VLOOKUP($D17,リスト!$B:$F,4,FALSE),"") | H17: =IF($D17="","",IF($K17=FALSE,"定員数を入力してください",IF(AND($D17<>"",$G17=""),"開設日又は再開日を入力してください",IFERROR(VLOOKUP($D17,リスト!$B:$K,VLOOKUP($G17,リスト!$O$1:$P$4,2,TRUE),FALSE)*IF(COUNTIF($D17,"Ⅰ*")=1,$E17,1),"交付対象となりません ")))) | I17: =IF(NOT(ISNUMBER($H17)),0,IF(COUNTIF($D17,"Ⅰ*")=1,-1600,0)) -> 0 | K17: =NOT(AND(COUNTIF($D17,"Ⅰ*")=1,$E17="")) -> TRUE
A18: =ROW()-6 -> 12 | F18: =IFERROR(VLOOKUP($D18,リスト!$B:$F,4,FALSE),"") | H18: =IF($D18="","",IF($K18=FALSE,"定員数を入力してください",IF(AND($D18<>"",$G18=""),"開設日又は再開日を入力してください",IFERROR(VLOOKUP($D18,リスト!$B:$K,VLOOKUP($G18,リスト!$O$1:$P$4,2,TRUE),FALSE)*IF(COUNTIF($D18,"Ⅰ*")=1,$E18,1),"交付対象となりません ")))) | I18: =IF(NOT(ISNUMBER($H18)),0,IF(COUNTIF($D18,"Ⅰ*")=1,-1600,0)) -> 0 | K18: =NOT(AND(COUNTIF($D18,"Ⅰ*")=1,$E18="")) -> TRUE
... A36: =ROW()-6 -> 30 | F36: =IFERROR(VLOOKUP($D36,リスト!$B:$F,4,FALSE),"") | H36: =IF($D36="","",IF($K36=FALSE,"定員数を入力してください",IF(AND($D36<>"",$G36=""),"開設日又は再開日を入力してください",IFERROR(VLOOKUP($D36,リスト!$B:$K,VLOOKUP($G36,リスト!$O$1:$P$4,2,TRUE),FALSE)*IF(COUNTIF($D36,"Ⅰ*")=1,$E36,1),"交付対象となりません ")))) | I36: =IF(NOT(ISNUMBER($H36)),0,IF(COUNTIF($D36,"Ⅰ*")=1,-1600,0)) -> 0 | K36: =NOT(AND(COUNTIF($D36,"Ⅰ*")=1,$E36="")) -> TRUE
A37: 合計金額【様式第１号に記載する支援金交付申請(請求)額】⇒ | F37: =IF($L$37=FALSE,"定員入力漏れがあります",SUM($H$7:$I$36)) -> 0 | L37: =COUNTIF($I$7:$I$36,"定員*")=0 -> TRUE
A38: ※ | B38: 「③区分」は、別表２の「区分」欄に記載されている内容にしたがってご記入ください。「④事業所種別」「⑥支援金額」「⑦控除額」欄については自動入力されます。「⑤開設日又は再開日」欄については、事業所の開設日をご記入ください（ただし、これまでで休止から再開した実績のある事業所については、開設日ではなく直近の再開日を記入すること）。
A40: ※ | B40: 定員数は、区分が入所系（Ⅰ）の場合にのみご記入ください。

Sheet 記入例
A2: 事業所一覧（別紙１） | F2: 法人名 | G2: 高齢介護介護保険 | J2: 別表２
A4: № | B4: ①事業所名 | C4: ②事業所番号 | D4: ③区分 | E4: ④事業所種別 | G4: ⑤開設日 又は再開日 | H4: ⑥支援金額 | I4: ⑦控除額
E5: 入所系（Ⅰ）の場合、定員数
A7: =ROW()-6 -> 1 | B7: デイサービス高齢介護介護保険A | C7: 117080**** | D7: Ⅱア | F7: =IFERROR(VLOOKUP($D7,リスト!$B:$F,4,FALSE),"") -> 通所介護 | G7: 41365 | H7: =IF($D7="","",IF($K7=FALSE,"定員数を入力してください",IF(AND($D7<>"",$G7=""),"開設日又は再開日を入力してください",IFERROR(VLOOKUP($D7,リスト!$B:$K,VLOOKUP($G7,リスト!$O$1:$P$4,2,TRUE),FALSE)*IF(COUNTIF($D7,"Ⅰ*")=1,$E7,1),"交付対象となりません ")))) -> 12400 | I7: =IF(COUNTIF($D7,"Ⅰ*")=1,-1600,0) -> 0 | K7: =NOT(AND(COUNTIF($D7,"Ⅰ*")=1,$E7="")) -> TRUE
A8: =ROW()-6 -> 2 | B8: ケアサービス高齢介護介護保険A | C8: 117080**** | D8: Ⅱイ | F8: =IFERROR(VLOOKUP($D8,リスト!$B:$F,4,FALSE),"") -> 通所リハビリテーション | G8: 42186 | H8: =IF($D8="","",IF($K8=FALSE,"定員数を入力してください",IF(AND($D8<>"",$G8=""),"開設日又は再開日を入力してください",IFERROR(VLOOKUP($D8,リスト!$B:$K,VLOOKUP($G8,リスト!$O$1:$P$4,2,TRUE),FALSE)*IF(COUNTIF($D8,"Ⅰ*")=1,$E8,1),"交付対象となりません ")))) -> 12400 | I8: =IF(COUNTIF($D8,"Ⅰ*")=1,-1600,0) -> 0 | K8: =NOT(AND(COUNTIF($D8,"Ⅰ*")=1,$E8="")) -> TRUE
A9: =ROW()-6 -> 3 | B9: デイサービス高齢介護介護保険B | C9: 117080++++ | D9: Ⅱア | F9: =IFERROR(VLOOKUP($D9,リスト!$B:$F,4,FALSE),"") -> 通所介護 | G9: 45931 | H9: =IF($D9="","",IF($K9=FALSE,"定員数を入力してください",IF(AND($D9<>"",$G9=""),"開設日又は再開日を入力してください",IFERROR(VLOOKUP($D9,リスト!$B:$K,VLOOKUP($G9,リスト!$O$1:$P$4,2,TRUE),FALSE)*IF(COUNTIF($D9,"Ⅰ*")=1,$E9,1),"交付対象となりません ")))) -> 12400 | I9: =IF(COUNTIF($D9,"Ⅰ*")=1,-1600,0) -> 0 | K9: =NOT(AND(COUNTIF($D9,"Ⅰ*")=1,$E9="")) -> TRUE
A10: =ROW()-6 -> 4 | B10: ケアサービス高齢介護介護保険B | C10: 117080++++ | D10: Ⅱイ | F10: =IFERROR(VLOOKUP($D10,リスト!$B:$F,4,FALSE),"") -> 通所リハビリテーション | G10: 46204 | H10: =IF($D10="","",IF($K10=FALSE,"定員数を入力してください",IF(AND($D10<>"",$G10=""),"開設日又は再開日を入力してください",IFERROR(VLOOKUP($D10,リスト!$B:$K,VLOOKUP($G10,リスト!$O$1:$P$4,2,TRUE),FALSE)*IF(COUNTIF($D10,"Ⅰ*")=1,$E10,1),"交付対象となりません ")))) -> 12400 | I10: =IF(COUNTIF($D10,"Ⅰ*")=1,-1600,0) -> 0 | K10: =NOT(AND(COUNTIF($D10,"Ⅰ*")=1,$E10="")) -> TRUE
A11: =ROW()-6 -> 5 | B11: デイサービス高齢介護介護保険C | C11: 117080//// | D11: Ⅱア | F11: =IFERROR(VLOOKUP($D11,リスト!$B:$F,4,FALSE),"") -> 通所介護 | G11: 46235 | H11: =IF($D11="","",IF($K11=FALSE,"定員数を入力してください",IF(AND($D11<>"",$G11=""),"開設日又は再開日を入力してください",IFERROR(VLOOKUP($D11,リスト!$B:$K,VLOOKUP($G11,リスト!$O$1:$P$4,2,TRUE),FALSE)*IF(COUNTIF($D11,"Ⅰ*")=1,$E11,1),"交付対象となりません ")))) -> 7700 | I11: =IF(COUNTIF($D11,"Ⅰ*")=1,-1600,0) -> 0 | K11: =NOT(AND(COUNTIF($D11,"Ⅰ*")=1,$E11="")) -> TRUE
A12: =ROW()-6 -> 6 | B12: ケアサービス高齢介護介護保険C | C12: 117080//// | D12: Ⅱイ | F12: =IFERROR(VLOOKUP($D12,リスト!$B:$F,4,FALSE),"") -> 通所リハビリテーション | G12: 46266 | H12: =IF($D12="","",IF($K12=FALSE,"定員数を入力してください",IF(AND($D12<>"",$G12=""),"開設日又は再開日を入力してください",IFERROR(VLOOKUP($D12,リスト!$B:$K,VLOOKUP($G12,リスト!$O$1:$P$4,2,TRUE),FALSE)*IF(COUNTIF($D12,"Ⅰ*")=1,$E12,1),"交付対象となりません ")))) -> 3000 | I12: =IF(COUNTIF($D12,"Ⅰ*")=1,-1600,0) -> 0 | K12: =NOT(AND(COUNTIF($D12,"Ⅰ*")=1,$E12="")) -> TRUE
A13: =ROW()-6 -> 7 | B13: 小規模多機能高齢介護介護保険 | C13: 119080@@@@ | D13: Ⅰサ | E13: 9 | F13: =IFERROR(VLOOKUP($D13,リスト!$B:$F,4,FALSE),"") -> 小規模多機能型居宅介護 | G13: 46204 | H13: =IF($D13="","",IF($K13=FALSE,"定員数を入力してください",IF(AND($D13<>"",$G13=""),"開設日又は再開日を入力してください",IFERROR(VLOOKUP($D13,リスト!$B:$K,VLOOKUP($G13,リスト!$O$1:$P$4,2,TRUE),FALSE)*IF(COUNTIF($D13,"Ⅰ*")=1,$E13,1),"交付対象となりません ")))) -> 20700 | I13: =IF(COUNTIF($D13,"Ⅰ*")=1,-1600,0) -> -1600 | K13: =NOT(AND(COUNTIF($D13,"Ⅰ*")=1,$E13="")) -> TRUE
A14: =ROW()-6 -> 8 | B14: 介護付有料老人ホーム高齢介護介護保険 | C14: 117080\\\\ | D14: Ⅰキ | E14: 100 | F14: =IFERROR(VLOOKUP($D14,リスト!$B:$F,4,FALSE),"") -> 有料老人ホーム（特定施設入居者生活介護含む） | G14: 45931 | H14: =IF($D14="","",IF($K14=FALSE,"定員数を入力してください",IF(AND($D14<>"",$G14=""),"開設日又は再開日を入力してください",IFERROR(VLOOKUP($D14,リスト!$B:$K,VLOOKUP($G14,リスト!$O$1:$P$4,2,TRUE),FALSE)*IF(COUNTIF($D14,"Ⅰ*")=1,$E14,1),"交付対象となりません ")))) -> 230000 | I14: =IF(COUNTIF($D14,"Ⅰ*")=1,-1600,0) -> -1600 | K14: =NOT(AND(COUNTIF($D14,"Ⅰ*")=1,$E14="")) -> TRUE
A15: =ROW()-6 -> 9 | B15: サ高住 高齢介護介護保険A | D15: Ⅰク | E15: 100 | F15: =IFERROR(VLOOKUP($D15,リスト!$B:$F,4,FALSE),"") -> サービス付き高齢者向け住宅（特定施設入居者生活介護含む） | G15: 46204 | H15: =IF($D15="","",IF($K15=FALSE,"定員数を入力してください",IF(AND($D15<>"",$G15=""),"開設日又は再開日を入力してください",IFERROR(VLOOKUP($D15,リスト!$B:$K,VLOOKUP($G15,リスト!$O$1:$P$4,2,TRUE),FALSE)*IF(COUNTIF($D15,"Ⅰ*")=1,$E15,1),"交付対象となりません ")))) -> 230000 | I15: =IF(COUNTIF($D15,"Ⅰ*")=1,-1600,0) -> -1600 | K15: =NOT(AND(COUNTIF($D15,"Ⅰ*")=1,$E15="")) -> TRUE
A16: =ROW()-6 -> 10 | B16: サ高住 高齢介護介護保険B | D16: Ⅰク | E16: 100 | F16: =IFERROR(VLOOKUP($D16,リスト!$B:$F,4,FALSE),"") -> サービス付き高齢者向け住宅（特定施設入居者生活介護含む） | G16: 46235 | H16: =IF($D16="","",IF($K16=FALSE,"定員数を入力してください",IF(AND($D16<>"",$G16=""),"開設日又は再開日を入力してください",IFERROR(VLOOKUP($D16,リスト!$B:$K,VLOOKUP($G16,リスト!$O$1:$P$4,2,TRUE),FALSE)*IF(COUNTIF($D16,"Ⅰ*")=1,$E16,1),"交付対象となりません ")))) -> 150000 | I16: =IF(COUNTIF($D16,"Ⅰ*")=1,-1600,0) -> -1600 | K16: =NOT(AND(COUNTIF($D16,"Ⅰ*")=1,$E16="")) -> TRUE
A17: =ROW()-6 -> 11 | B17: 住宅型有料老人ホーム高齢介護介護保険 | D17: Ⅰキ | E17: 100 | F17: =IFERROR(VLOOKUP($D17,リスト!$B:$F,4,FALSE),"") -> 有料老人ホーム（特定施設入居者生活介護含む） | G17: 46266 | H17: =IF($D17="","",IF($K17=FALSE,"定員数を入力してください",IF(AND($D17<>"",$G17=""),"開設日又は再開日を入力してください",IFERROR(VLOOKUP($D17,リスト!$B:$K,VLOOKUP($G17,リスト!$O$1:$P$4,2,TRUE),FALSE)*IF(COUNTIF($D17,"Ⅰ*")=1,$E17,1),"交付対象となりません ")))) -> 70000 | I17: =IF(COUNTIF($D17,"Ⅰ*")=1,-1600,0) -> -1600 | K17: =NOT(AND(COUNTIF($D17,"Ⅰ*")=1,$E17="")) -> TRUE
A18: =ROW()-6 -> 12 | F18: =IFERROR(VLOOKUP($D18,リスト!$B:$F,4,FALSE),"") | H18: =IF($D18="","",IF($K18=FALSE,"定員数を入力してください",IF(AND($D18<>"",$G18=""),"開設日又は再開日を入力してください",IFERROR(VLOOKUP($D18,リスト!$B:$K,VLOOKUP($G18,リスト!$O$1:$P$4,2,TRUE),FALSE)*IF(COUNTIF($D18,"Ⅰ*")=1,$E18,1),"交付対象となりません ")))) | I18: =IF(COUNTIF($D18,"Ⅰ*")=1,-1600,0) -> 0 | K18: =NOT(AND(COUNTIF($D18,"Ⅰ*")=1,$E18="")) -> TRUE
A19: =ROW()-6 -> 13 | F19: =IFERROR(VLOOKUP($D19,リスト!$B:$F,4,FALSE),"") | H19: =IF($D19="","",IF($K19=FALSE,"定員数を入力してください",IF(AND($D19<>"",$G19=""),"開設日又は再開日を入力してください",IFERROR(VLOOKUP($D19,リスト!$B:$K,VLOOKUP($G19,リスト!$O$1:$P$4,2,TRUE),FALSE)*IF(COUNTIF($D19,"Ⅰ*")=1,$E19,1),"交付対象となりません ")))) | I19: =IF(COUNTIF($D19,"Ⅰ*")=1,-1600,0) -> 0 | K19: =NOT(AND(COUNTIF($D19,"Ⅰ*")=1,$E19="")) -> TRUE
A20: =ROW()-6 -> 14 | F20: =IFERROR(VLOOKUP($D20,リスト!$B:$F,4,FALSE),"") | H20: =IF($D20="","",IF($K20=FALSE,"定員数を入力してください",IF(AND($D20<>"",$G20=""),"開設日又は再開日を入力してください",IFERROR(VLOOKUP($D20,リスト!$B:$K,VLOOKUP($G20,リスト!$O$1:$P$4,2,TRUE),FALSE)*IF(COUNTIF($D20,"Ⅰ*")=1,$E20,1),"交付対象となりません ")))) | I20: =IF(COUNTIF($D20,"Ⅰ*")=1,-1600,0) -> 0 | K20: =NOT(AND(COUNTIF($D20,"Ⅰ*")=1,$E20="")) -> TRUE
A21: =ROW()-6 -> 15 | F21: =IFERROR(VLOOKUP($D21,リスト!$B:$F,4,FALSE),"") | H21: =IF($D21="","",IF($K21=FALSE,"定員数を入力してください",IF(AND($D21<>"",$G21=""),"開設日又は再開日を入力してください",IFERROR(VLOOKUP($D21,リスト!$B:$K,VLOOKUP($G21,リスト!$O$1:$P$4,2,TRUE),FALSE)*IF(COUNTIF($D21,"Ⅰ*")=1,$E21,1),"交付対象となりません ")))) | I21: =IF(COUNTIF($D21,"Ⅰ*")=1,-1600,0) -> 0 | K21: =NOT(AND(COUNTIF($D21,"Ⅰ*")=1,$E21="")) -> TRUE
A22: =ROW()-6 -> 16 | F22: =IFERROR(VLOOKUP($D22,リスト!$B:$F,4,FALSE),"") | H22: =IF($D22="","",IF($K22=FALSE,"定員数を入力してください",IF(AND($D22<>"",$G22=""),"開設日又は再開日を入力してください",IFERROR(VLOOKUP($D22,リスト!$B:$K,VLOOKUP($G22,リスト!$O$1:$P$4,2,TRUE),FALSE)*IF(COUNTIF($D22,"Ⅰ*")=1,$E22,1),"交付対象となりません ")))) | I22: =IF(COUNTIF($D22,"Ⅰ*")=1,-1600,0) -> 0 | K22: =NOT(AND(COUNTIF($D22,"Ⅰ*")=1,$E22="")) -> TRUE
A23: =ROW()-6 -> 17 | F23: =IFERROR(VLOOKUP($D23,リスト!$B:$F,4,FALSE),"") | H23: =IF($D23="","",IF($K23=FALSE,"定員数を入力してください",IF(AND($D23<>"",$G23=""),"開設日又は再開日を入力してください",IFERROR(VLOOKUP($D23,リスト!$B:$K,VLOOKUP($G23,リスト!$O$1:$P$4,2,TRUE),FALSE)*IF(COUNTIF($D23,"Ⅰ*")=1,$E23,1),"交付対象となりません ")))) | I23: =IF(COUNTIF($D23,"Ⅰ*")=1,-1600,0) -> 0 | K23: =NOT(AND(COUNTIF($D23,"Ⅰ*")=1,$E23="")) -> TRUE
A24: =ROW()-6 -> 18 | F24: =IFERROR(VLOOKUP($D24,リスト!$B:$F,4,FALSE),"") | H24: =IF($D24="","",IF($K24=FALSE,"定員数を入力してください",IF(AND($D24<>"",$G24=""),"開設日又は再開日を入力してください",IFERROR(VLOOKUP($D24,リスト!$B:$K,VLOOKUP($G24,リスト!$O$1:$P$4,2,TRUE),FALSE)*IF(COUNTIF($D24,"Ⅰ*")=1,$E24,1),"交付対象となりません ")))) | I24: =IF(COUNTIF($D24,"Ⅰ*")=1,-1600,0) -> 0 | K24: =NOT(AND(COUNTIF($D24,"Ⅰ*")=1,$E24="")) -> TRUE
A25: =ROW()-6 -> 19 | F25: =IFERROR(VLOOKUP($D25,リスト!$B:$F,4,FALSE),"") | H25: =IF($D25="","",IF($K25=FALSE,"定員数を入力してください",IF(AND($D25<>"",$G25=""),"開設日又は再開日を入力してください",IFERROR(VLOOKUP($D25,リスト!$B:$K,VLOOKUP($G25,リスト!$O$1:$P$4,2,TRUE),FALSE)*IF(COUNTIF($D25,"Ⅰ*")=1,$E25,1),"交付対象となりません ")))) | I25: =IF(COUNTIF($D25,"Ⅰ*")=1,-1600,0) -> 0 | K25: =NOT(AND(COUNTIF($D25,"Ⅰ*")=1,$E25="")) -> TRUE
A26: =ROW()-6 -> 20 | F26: =IFERROR(VLOOKUP($D26,リスト!$B:$F,4,FALSE),"") | H26: =IF($D26="","",IF($K26=FALSE,"定員数を入力してください",IF(AND($D26<>"",$G26=""),"開設日又は再開日を入力してください",IFERROR(VLOOKUP($D26,リスト!$B:$K,VLOOKUP($G26,リスト!$O$1:$P$4,2,TRUE),FALSE)*IF(COUNTIF($D26,"Ⅰ*")=1,$E26,1),"交付対象となりません ")))) | I26: =IF(COUNTIF($D26,"Ⅰ*")=1,-1600,0) -> 0 | K26: =NOT(AND(COUNTIF($D26,"Ⅰ*")=1,$E26="")) -> TRUE
A27: =ROW()-6 -> 21 | F27: =IFERROR(VLOOKUP($D27,リスト!$B:$F,4,FALSE),"") | H27: =IF($D27="","",IF($K27=FALSE,"定員数を入力してください",IF(AND($D27<>"",$G27=""),"開設日又は再開日を入力してください",IFERROR(VLOOKUP($D27,リスト!$B:$K,VLOOKUP($G27,リスト!$O$1:$P$4,2,TRUE),FALSE)*IF(COUNTIF($D27,"Ⅰ*")=1,$E27,1),"交付対象となりません ")))) | I27: =IF(COUNTIF($D27,"Ⅰ*")=1,-1600,0) -> 0 | K27: =NOT(AND(COUNTIF($D27,"Ⅰ*")=1,$E27="")) -> TRUE
A28: =ROW()-6 -> 22 | F28: =IFERROR(VLOOKUP($D28,リスト!$B:$F,4,FALSE),"") | H28: =IF($D28="","",IF($K28=FALSE,"定員数を入力してください",IF(AND($D28<>"",$G28=""),"開設日又は再開日を入力してください",IFERROR(VLOOKUP($D28,リスト!$B:$K,VLOOKUP($G28,リスト!$O$1:$P$4,2,TRUE),FALSE)*IF(COUNTIF($D28,"Ⅰ*")=1,$E28,1),"交付対象となりません ")))) | I28: =IF(COUNTIF($D28,"Ⅰ*")=1,-1600,0) -> 0 | K28: =NOT(AND(COUNTIF($D28,"Ⅰ*")=1,$E28="")) -> TRUE
A29: =ROW()-6 -> 23 | F29: =IFERROR(VLOOKUP($D29,リスト!$B:$F,4,FALSE),"") | H29: =IF($D29="","",IF($K29=FALSE,"定員数を入力してください",IF(AND($D29<>"",$G29=""),"開設日又は再開日を入力してください",IFERROR(VLOOKUP($D29,リスト!$B:$K,VLOOKUP($G29,リスト!$O$1:$P$4,2,TRUE),FALSE)*IF(COUNTIF($D29,"Ⅰ*")=1,$E29,1),"交付対象となりません ")))) | I29: =IF(COUNTIF($D29,"Ⅰ*")=1,-1600,0) -> 0 | K29: =NOT(AND(COUNTIF($D29,"Ⅰ*")=1,$E29="")) -> TRUE
... A36: =ROW()-6 -> 30 | F36: =IFERROR(VLOOKUP($D36,リスト!$B:$F,4,FALSE),"") | H36: =IF($D36="","",IF($K36=FALSE,"定員数を入力してください",IF(AND($D36<>"",$G36=""),"開設日又は再開日を入力してください",IFERROR(VLOOKUP($D36,リスト!$B:$K,VLOOKUP($G36,リスト!$O$1:$P$4,2,TRUE),FALSE)*IF(COUNTIF($D36,"Ⅰ*")=1,$E36,1),"交付対象となりません ")))) | I36: =IF(COUNTIF($D36,"Ⅰ*")=1,-1600,0) -> 0 | K36: =NOT(AND(COUNTIF($D36,"Ⅰ*")=1,$E36="")) -> TRUE
A37: 合計金額【様式第１号に記載する支援金交付申請(請求)額】⇒ | F37: =IF($L$37=FALSE,"定員入力漏れがあります",SUM($H$7:$I$36)) -> 753000 | L37: =COUNTIF($I$7:$I$36,"定員*")=0 -> TRUE
A38: ※１ | B38: 「③区分」は、別表２の「区分」欄に記載されている内容にしたがってご記入ください。「④事業所種別」「⑥支援金額」「⑦控除額」欄については自動入力されます。「⑤開設日又は再開日」欄については、事業所の開設日をご記入ください（ただし、これまでで休止から再開した実績のある事業所については、開設日ではなく直近の再開日を記入すること）。
A40: ※２ | B40: 定員数は、区分が入所系（Ⅰ）の場合にのみご記入ください。

Sheet リスト
A1: 区分 | E1: 種別 | F1: 金額（円） | H1: 8/1開設・再開 | I1: 9/1開設・再開 | O1: 0 | P1: 5
A2: 入所系 | B2: =_xlfn.CONCAT(C2:D2) -> Ⅰア | C2: Ⅰ | D2: ア | E2: 介護老人福祉施設 | F2: 2300 | G2: /定員 | H2: 1500 | I2: 700 | O2: 46205 | P2: 7
B3: =_xlfn.CONCAT(C3:D3) -> Ⅰイ | C3: Ⅰ | D3: イ | E3: 介護老人保健施設 | F3: 2300 | G3: /定員 | H3: 1500 | I3: 700 | O3: 46236 | P3: 8
B4: =_xlfn.CONCAT(C4:D4) -> Ⅰウ | C4: Ⅰ | D4: ウ | E4: 認知症対応型共同生活介護 | F4: 2300 | G4: /定員 | H4: 1500 | I4: 700 | O4: 46267 | P4: 0
B5: =_xlfn.CONCAT(C5:D5) -> Ⅰエ | C5: Ⅰ | D5: エ | E5: 地域密着型介護老人福祉施設 | F5: 2300 | G5: /定員 | H5: 1500 | I5: 700
B6: =_xlfn.CONCAT(C6:D6) -> Ⅰオ | C6: Ⅰ | D6: オ | E6: 養護老人ホーム | F6: 2300 | G6: /定員 | H6: 1500 | I6: 700
B7: =_xlfn.CONCAT(C7:D7) -> Ⅰカ | C7: Ⅰ | D7: カ | E7: 軽費老人ホーム | F7: 2300 | G7: /定員 | H7: 1500 | I7: 700
B8: =_xlfn.CONCAT(C8:D8) -> Ⅰキ | C8: Ⅰ | D8: キ | E8: 有料老人ホーム（特定施設入居者生活介護含む） | F8: 2300 | G8: /定員 | H8: 1500 | I8: 700
B9: =_xlfn.CONCAT(C9:D9) -> Ⅰク | C9: Ⅰ | D9: ク | E9: サービス付き高齢者向け住宅（特定施設入居者生活介護含む） | F9: 2300 | G9: /定員 | H9: 1500 | I9: 700
B10: =_xlfn.CONCAT(C10:D10) -> Ⅰケ | C10: Ⅰ | D10: ケ | E10: 短期入所生活介護 | F10: 2300 | G10: /定員 | H10: 1500 | I10: 700
B11: =_xlfn.CONCAT(C11:D11) -> Ⅰコ | C11: Ⅰ | D11: コ | E11: 短期入所療養介護 | F11: 2300 | G11: /定員 | H11: 1500 | I11: 700
B12: =_xlfn.CONCAT(C12:D12) -> Ⅰサ | C12: Ⅰ | D12: サ | E12: 小規模多機能型居宅介護 | F12: 2300 | G12: /定員 | H12: 1500 | I12: 700
B13: =_xlfn.CONCAT(C13:D13) -> Ⅰシ | C13: Ⅰ | D13: シ | E13: 看護小規模多機能型居宅介護 | F13: 2300 | G13: /定員 | H13: 1500 | I13: 700
A14: 通所系 | B14: =_xlfn.CONCAT(C14:D14) -> Ⅱア | C14: Ⅱ | D14: ア | E14: 通所介護 | F14: 12400 | G14: /事業所 | H14: 7700 | I14: 3000
B15: =_xlfn.CONCAT(C15:D15) -> Ⅱイ | C15: Ⅱ | D15: イ | E15: 通所リハビリテーション | F15: 12400 | G15: /事業所 | H15: 7700 | I15: 3000
B16: =_xlfn.CONCAT(C16:D16) -> Ⅱウ | C16: Ⅱ | D16: ウ | E16: 地域密着型通所介護 | F16: 12400 | G16: /事業所 | H16: 7700 | I16: 3000
B17: =_xlfn.CONCAT(C17:D17) -> Ⅱエ | C17: Ⅱ | D17: エ | E17: 認知症対応型通所介護 | F17: 12400 | G17: /事業所 | H17: 7700 | I17: 3000
